BEGIN:VCALENDAR
VERSION:2.0
PRODID:-//Tukios.com/
BEGIN:VEVENT
UID:2639c207-c7b4-4eb6-ab92-b7e6e3ba5996@www.thompsonfunerals.com
DTSTAMP:20260424T033858Z
DTSTART:20260429T190000Z
DTEND:20260429T200000Z
SUMMARY:Mass
DESCRIPTION:
URL:https://www.thompsonfunerals.com/obituaries/thomas-harris
LOCATION:St. Thomas Becket Catholic Church 3550 Southwest Loop 820  Fort 
	Worth TX 76133
GEO:32.6718528;-97.3690969
END:VEVENT
END:VCALENDAR