BEGIN:VCALENDAR
VERSION:2.0
PRODID:-//Tukios.com/
BEGIN:VEVENT
UID:de5abe7f-3c1e-49a2-99ae-1f383b3be16d@www.thompsonfunerals.com
DTSTAMP:20260424T034514Z
DTSTART:20260429T181500Z
DTEND:20260429T190000Z
SUMMARY:Viewing
DESCRIPTION:
URL:https://www.thompsonfunerals.com/obituaries/thomas-harris
LOCATION:St. Thomas Becket Catholic Church 3550 Southwest Loop 820  Fort 
	Worth TX 76133
GEO:32.6718528;-97.3690969
END:VEVENT
END:VCALENDAR