BEGIN:VCALENDAR
VERSION:2.0
PRODID:-//Tukios.com/
BEGIN:VEVENT
UID:8fa57135-52d0-473e-aa56-126ea92c180c@www.thompsonfunerals.com
DTSTAMP:20260424T033851Z
DTSTART:20260429T200000Z
DTEND:20260429T203000Z
SUMMARY:Graveside Service
DESCRIPTION:
URL:https://www.thompsonfunerals.com/obituaries/patricia-dickerson
LOCATION: 2301 North Sylvania Avenue  Fort Worth TX 76111
GEO:32.7943655;-97.3092038
END:VEVENT
END:VCALENDAR