BEGIN:VCALENDAR
VERSION:2.0
PRODID:-//Tukios.com/
BEGIN:VEVENT
UID:1a25584a-8dd6-48b6-99fb-1384b396890a@www.thompsonfunerals.com
DTSTAMP:20260424T034151Z
DTSTART:20260428T233000Z
DTEND:20260429T010000Z
SUMMARY:Visitation
DESCRIPTION:
URL:https://www.thompsonfunerals.com/obituaries/patricia-dickerson
LOCATION: 4350 River Oaks Boulevard  Fort Worth TX 76114
GEO:32.7846501;-97.3858883
END:VEVENT
END:VCALENDAR