BEGIN:VCALENDAR
VERSION:2.0
PRODID:-//Tukios.com/
BEGIN:VEVENT
UID:7b7a270d-eca1-4e05-9a4b-a082f55046a2@www.thompsonfunerals.com
DTSTAMP:20260424T034314Z
DTSTART:20260429T183000Z
DTEND:20260429T193000Z
SUMMARY:Mass of Christian Burial
DESCRIPTION:
URL:https://www.thompsonfunerals.com/obituaries/patricia-dickerson
LOCATION: 1206 Throckmorton Street  Fort Worth TX 76102
GEO:32.7486588;-97.3298467
END:VEVENT
END:VCALENDAR