BEGIN:VCALENDAR
VERSION:2.0
PRODID:-//Tukios.com/
BEGIN:VEVENT
UID:e93ec53f-7fb9-4d40-b8fd-23b80abc6c42@www.thompsonfunerals.com
DTSTAMP:20260424T033659Z
DTSTART:20260428T230000Z
DTEND:20260428T233000Z
SUMMARY:Rosary
DESCRIPTION:
URL:https://www.thompsonfunerals.com/obituaries/patricia-dickerson
LOCATION: 4350 River Oaks Boulevard  Fort Worth TX 76114
GEO:32.7846501;-97.3858883
END:VEVENT
END:VCALENDAR