BEGIN:VCALENDAR
VERSION:2.0
PRODID:-//Tukios.com/
BEGIN:VEVENT
UID:d33ed2d9-888a-4e1c-be65-0ec33770ac86@www.thompsonfunerals.com
DTSTAMP:20260424T163857Z
DTSTART:20260427T230000Z
DTEND:20260428T010000Z
SUMMARY:Visitation
DESCRIPTION:
URL:https://www.thompsonfunerals.com/obituaries/gerardo-amador
LOCATION:Thompson's Harveson & Cole Chapel 4350 River Oaks Boulevard  
	Fort Worth TX 76114
GEO:32.7846501;-97.3858883
END:VEVENT
END:VCALENDAR