BEGIN:VCALENDAR
VERSION:2.0
PRODID:-//Tukios.com/
BEGIN:VEVENT
UID:85e2821b-bc28-4399-8fb5-34bf0890f8ce@www.thompsonfunerals.com
DTSTAMP:20260420T213112Z
DTSTART:20260423T160000Z
DTEND:20260423T170000Z
SUMMARY:Mass
DESCRIPTION:
URL:https://www.thompsonfunerals.com/obituaries/alfred-sablan
LOCATION:St. Peter the Apostle Catholic Church 1201 South Cherry Lane  
	White Settlement TX 76108
GEO:32.7474037;-97.4505294
END:VEVENT
END:VCALENDAR