BEGIN:VCALENDAR
VERSION:2.0
PRODID:-//Tukios.com/
BEGIN:VEVENT
UID:38ee5abf-c2db-4a35-af69-05ec77d5585e@www.thompsonfunerals.com
DTSTAMP:20260420T212827Z
DTSTART:20260424T143000Z
DTEND:20260424T153000Z
SUMMARY:Interment
DESCRIPTION:
URL:https://www.thompsonfunerals.com/obituaries/alfred-sablan
LOCATION:Dallas-Fort Worth National Cemetery 2000 Mountain Creek Parkway  
	Dallas TX 75211
GEO:32.7156179;-96.9421476
END:VEVENT
END:VCALENDAR