BEGIN:VCALENDAR
VERSION:2.0
PRODID:-//Tukios.com/
BEGIN:VEVENT
UID:7d7ed6a9-63ed-491d-b2ed-71cd040a3a1a@www.thompsonfunerals.com
DTSTAMP:20260420T212526Z
DTSTART:20260423T150000Z
DTEND:20260423T163000Z
SUMMARY:Rosary
DESCRIPTION:
URL:https://www.thompsonfunerals.com/obituaries/alfred-sablan
LOCATION: 1201 South Cherry Lane  White Settlement TX 76108
GEO:32.7474037;-97.4505294
END:VEVENT
END:VCALENDAR